BEGIN:VCALENDAR
VERSION:2.0
PRODID:-//Ferienhof Holste - ECPv6.10.2//NONSGML v1.0//EN
CALSCALE:GREGORIAN
METHOD:PUBLISH
X-WR-CALNAME:Ferienhof Holste
X-ORIGINAL-URL:https://www.ferienhof-holste.de
X-WR-CALDESC:Veranstaltungen für Ferienhof Holste
REFRESH-INTERVAL;VALUE=DURATION:PT1H
X-Robots-Tag:noindex
X-PUBLISHED-TTL:PT1H
BEGIN:VTIMEZONE
TZID:Europe/Berlin
BEGIN:DAYLIGHT
TZOFFSETFROM:+0100
TZOFFSETTO:+0200
TZNAME:CEST
DTSTART:20260329T010000
END:DAYLIGHT
BEGIN:STANDARD
TZOFFSETFROM:+0200
TZOFFSETTO:+0100
TZNAME:CET
DTSTART:20261025T010000
END:STANDARD
END:VTIMEZONE
BEGIN:VEVENT
DTSTART;TZID=Europe/Berlin:20260510T100000
DTEND;TZID=Europe/Berlin:20260510T130000
DTSTAMP:20260420T181330
CREATED:20260115T081702Z
LAST-MODIFIED:20260403T151152Z
UID:7104-1778407200-1778418000@www.ferienhof-holste.de
SUMMARY:Muttertags-Brunch
DESCRIPTION:Wir bieten am 10.05.2026 einen Muttertags-Brunch an. \nKosten 29\,50-€ pro Person \nAnmeldung erforderlich.
URL:https://www.ferienhof-holste.de/event/muttertags-brunch/
END:VEVENT
END:VCALENDAR