BEGIN:VCALENDAR
VERSION:2.0
PRODID:-//Ferienhof Holste - ECPv6.10.2//NONSGML v1.0//EN
CALSCALE:GREGORIAN
METHOD:PUBLISH
X-ORIGINAL-URL:https://www.ferienhof-holste.de
X-WR-CALDESC:Veranstaltungen für Ferienhof Holste
REFRESH-INTERVAL;VALUE=DURATION:PT1H
X-Robots-Tag:noindex
X-PUBLISHED-TTL:PT1H
BEGIN:VTIMEZONE
TZID:Europe/Berlin
BEGIN:DAYLIGHT
TZOFFSETFROM:+0100
TZOFFSETTO:+0200
TZNAME:CEST
DTSTART:20260329T010000
END:DAYLIGHT
BEGIN:STANDARD
TZOFFSETFROM:+0200
TZOFFSETTO:+0100
TZNAME:CET
DTSTART:20261025T010000
END:STANDARD
END:VTIMEZONE
BEGIN:VEVENT
DTSTART;TZID=Europe/Berlin:20260510T100000
DTEND;TZID=Europe/Berlin:20260510T130000
DTSTAMP:20260420T165200
CREATED:20260115T081702Z
LAST-MODIFIED:20260403T151152Z
UID:7104-1778407200-1778418000@www.ferienhof-holste.de
SUMMARY:Muttertags-Brunch
DESCRIPTION:Wir bieten am 10.05.2026 einen Muttertags-Brunch an. \nKosten 29\,50-€ pro Person \nAnmeldung erforderlich.
URL:https://www.ferienhof-holste.de/event/muttertags-brunch/
END:VEVENT
BEGIN:VEVENT
DTSTART;TZID=Europe/Berlin:20260804T170000
DTEND;TZID=Europe/Berlin:20260804T230000
DTSTAMP:20260420T165200
CREATED:20240418T122439Z
LAST-MODIFIED:20260115T082119Z
UID:6961-1785862800-1785884400@www.ferienhof-holste.de
SUMMARY:Kabarett der Leipziger Pfeffermühle
DESCRIPTION:´´Urlaub vom Gehirn„ \n  \nAb 17.00 Uhr bieten wir für 25\,-€ pro Person ein Grillbuffet an. \nAnmeldung erforderlich. \n 
URL:https://www.ferienhof-holste.de/event/kabarett-der-leipziger-pfeffermuehle/
ORGANIZER;CN="Ferienhof Holste":MAILTO:info@ferienhof-holste.de
END:VEVENT
BEGIN:VEVENT
DTSTART;VALUE=DATE:20261107
DTEND;VALUE=DATE:20261108
DTSTAMP:20260420T165200
CREATED:20241016T203625Z
LAST-MODIFIED:20260115T082254Z
UID:6976-1794009600-1794095999@www.ferienhof-holste.de
SUMMARY:Hobby-Markt
DESCRIPTION:Der Hobby-Markt geht wieder los!! \nVon 10.00 bis 18.00 Uhr. \nFür  das leibliche Wohl ist gesorgt. \nMittagessen\, Kaffee und Kuchen auf der Diele und im Café. \n  \nAusteller auf der Scheune\, in der Remise\, bei den Tiny Häusern und auf den Freiflächen. \nPommes\, Schmalzkuchen\, Honig\, Brot\, Antipasti\, Käse\, Nüsse\, Gewürze\, \nGestecke\, Deko-Artikel aus Holz\, Metall\, Keramik\, Genähtes und Gestricktes\, Lego und noch vieles mehr. \n  \nBesichtigung der Tiny-Häuser! \n 
URL:https://www.ferienhof-holste.de/event/hobby-markt/
END:VEVENT
BEGIN:VEVENT
DTSTART;VALUE=DATE:20261108
DTEND;VALUE=DATE:20261109
DTSTAMP:20260420T165200
CREATED:20241016T204334Z
LAST-MODIFIED:20260115T082338Z
UID:6981-1794096000-1794182399@www.ferienhof-holste.de
SUMMARY:Hobby-Markt
DESCRIPTION:Der Hobby-Markt geht wieder los!! \nVon 10.00 bis 18.00 Uhr. \nFür  das leibliche Wohl ist gesorgt. \nMittagessen\, Kaffee und Kuchen auf der Diele und im Café. \n  \nAusteller auf der Scheune\, in der Remise\, bei den Tiny Häusern und auf den Freiflächen. \nPommes\, Schmalzkuchen\, Honig\, Brot\, Antipasti\, Käse\, Nüsse\, Gewürze\, \nGestecke\, Deko-Artikel aus Holz\, Metall\, Keramik\, Genähtes und Gestricktes\, Lego und noch vieles mehr. \n  \nBesichtigung der Tiny-Häuser! \n  \n 
URL:https://www.ferienhof-holste.de/event/hobby-markt-2/
END:VEVENT
END:VCALENDAR