BEGIN:VCALENDAR
VERSION:2.0
PRODID:-//Ferienhof Holste - ECPv6.10.2//NONSGML v1.0//EN
CALSCALE:GREGORIAN
METHOD:PUBLISH
X-WR-CALNAME:Ferienhof Holste
X-ORIGINAL-URL:https://www.ferienhof-holste.de
X-WR-CALDESC:Veranstaltungen für Ferienhof Holste
REFRESH-INTERVAL;VALUE=DURATION:PT1H
X-Robots-Tag:noindex
X-PUBLISHED-TTL:PT1H
BEGIN:VTIMEZONE
TZID:Europe/Berlin
BEGIN:DAYLIGHT
TZOFFSETFROM:+0100
TZOFFSETTO:+0200
TZNAME:CEST
DTSTART:20260329T010000
END:DAYLIGHT
BEGIN:STANDARD
TZOFFSETFROM:+0200
TZOFFSETTO:+0100
TZNAME:CET
DTSTART:20261025T010000
END:STANDARD
END:VTIMEZONE
BEGIN:VEVENT
DTSTART;TZID=Europe/Berlin:20260207T180000
DTEND;TZID=Europe/Berlin:20260207T180000
DTSTAMP:20260420T211813
CREATED:20241108T073136Z
LAST-MODIFIED:20251029T081549Z
UID:6987-1770487200-1770487200@www.ferienhof-holste.de
SUMMARY:Kohlball 2026
DESCRIPTION:Am 07.02.2026 findet wieder unser Kohlball statt. \nEssen und Getränke pro Person 65\,-€ \nVon 18.00 bis 0.00 Uhr.
URL:https://www.ferienhof-holste.de/event/kohlball-2026/
LOCATION:Ferienhof Holste\, Nordkampen 44\, Walsrode\, Niedersachsen\, 29664\, Deutschland
END:VEVENT
END:VCALENDAR